BEGIN:VCALENDAR
VERSION:2.0
PRODID:-//Sabre//Sabre VObject 4.5.8//EN
CALSCALE:GREGORIAN
NAME:AC 2022
X-WR-CALNAME:AC 2022
BEGIN:VTIMEZONE
TZID:UTC
X-MICROSOFT-CDO-TZID:0
BEGIN:STANDARD
DTSTART:20210430T000000
TZOFFSETFROM:+0000
TZOFFSETTO:+0000
TZNAME:UTC
END:STANDARD
END:VTIMEZONE
BEGIN:VEVENT
UID:ac05bd81-19da-4500-a57e-2370e00eea1f
DTSTAMP:20221014T124253Z
SUMMARY:AC 2022
DTSTART:20220425T000000Z
DTEND:20220426T235900Z
DESCRIPTION:https://www.w3.org/events/ac/2022/ac-2022/\n\nAdvisory Committe
 e Meetings are Members-only meetings that focus on strategic issues facing
  the Consortium and future directions.
STATUS:CONFIRMED
CREATED:20220204T210900Z
LAST-MODIFIED:20221014T124253Z
END:VEVENT
END:VCALENDAR
