BEGIN:VCALENDAR
VERSION:2.0
PRODID:-//Sabre//Sabre VObject 4.5.8//EN
CALSCALE:GREGORIAN
NAME:AC at TPAC 2022 - Hybrid meeting
X-WR-CALNAME:AC at TPAC 2022 - Hybrid meeting
BEGIN:VTIMEZONE
TZID:UTC
X-MICROSOFT-CDO-TZID:0
BEGIN:STANDARD
DTSTART:20210918T000000
TZOFFSETFROM:+0000
TZOFFSETTO:+0000
TZNAME:UTC
END:STANDARD
END:VTIMEZONE
BEGIN:VEVENT
UID:ce27d98a-b73c-41ee-932b-8d0cfa6f770c
DTSTAMP:20250717T115459Z
SUMMARY:AC at TPAC 2022 - Hybrid meeting
DTSTART:20220913T000000Z
DTEND:20220915T235900Z
DESCRIPTION:https://www.w3.org/events/ac/2022/ac-tpac-2022-hybrid-meeting/\
 n\nAdvisory Committee Meetings are Members-only meetings that focus on str
 ategic issues facing the Consortium and future directions.
STATUS:CONFIRMED
CREATED:20221014T114800Z
LAST-MODIFIED:20250717T115459Z
END:VEVENT
END:VCALENDAR
