BEGIN:VCALENDAR
VERSION:2.0
PRODID:-//Sabre//Sabre VObject 4.5.8//EN
CALSCALE:GREGORIAN
NAME:AC 2023 - Hybrid meeting
X-WR-CALNAME:AC 2023 - Hybrid meeting
BEGIN:VTIMEZONE
TZID:UTC
X-MICROSOFT-CDO-TZID:0
BEGIN:STANDARD
DTSTART:20220514T000000
TZOFFSETFROM:+0000
TZOFFSETTO:+0000
TZNAME:UTC
END:STANDARD
END:VTIMEZONE
BEGIN:VEVENT
UID:8132f1e4-bbb3-471e-93dd-a1234a71f22b
DTSTAMP:20230923T162314Z
SUMMARY:AC 2023 - Hybrid meeting
DTSTART:20230509T000000Z
DTEND:20230510T235959Z
DESCRIPTION:https://www.w3.org/events/ac/2023/ac-meeting/\n\nMember-only Ad
 visory Committee Meetings focus on strategic issues facing the Consortium 
 and future directions set by W3C Members and Staff.
STATUS:CONFIRMED
CREATED:20230124T090400Z
LAST-MODIFIED:20230923T162314Z
END:VEVENT
END:VCALENDAR
