BEGIN:VCALENDAR
VERSION:2.0
PRODID:-//Sabre//Sabre VObject 4.5.8//EN
CALSCALE:GREGORIAN
NAME:AC at TPAC 2023 - Hybrid meeting
X-WR-CALNAME:AC at TPAC 2023 - Hybrid meeting
BEGIN:VTIMEZONE
TZID:UTC
X-MICROSOFT-CDO-TZID:0
BEGIN:STANDARD
DTSTART:20220917T000000
TZOFFSETFROM:+0000
TZOFFSETTO:+0000
TZNAME:UTC
END:STANDARD
END:VTIMEZONE
BEGIN:VEVENT
UID:af8172b3-7573-4bd0-85cb-5897a45bc06f
DTSTAMP:20250123T222627Z
SUMMARY:AC at TPAC 2023 - Hybrid meeting
DTSTART:20230912T000000Z
DTEND:20230913T235900Z
DESCRIPTION:https://www.w3.org/events/ac/2023/ac-tpac-2023-hybrid-meeting/\
 n\nAdvisory Committee Meetings are Members-only meetings that focus on str
 ategic issues facing the Consortium and future directions.
STATUS:CONFIRMED
CREATED:20230124T090400Z
LAST-MODIFIED:20250123T222627Z
END:VEVENT
END:VCALENDAR
