BEGIN:VCALENDAR
VERSION:2.0
PRODID:-//Sabre//Sabre VObject 4.5.8//EN
CALSCALE:GREGORIAN
NAME:AC 2024
X-WR-CALNAME:AC 2024
BEGIN:VTIMEZONE
TZID:UTC
X-MICROSOFT-CDO-TZID:0
BEGIN:STANDARD
DTSTART:20230414T000000
TZOFFSETFROM:+0000
TZOFFSETTO:+0000
TZNAME:UTC
END:STANDARD
END:VTIMEZONE
BEGIN:VEVENT
UID:be7d9188-e3f7-4429-9854-8aea17ba3310
DTSTAMP:20240124T173237Z
SUMMARY:AC 2024
DTSTART:20240408T000000Z
DTEND:20240409T000000Z
DESCRIPTION:https://www.w3.org/events/ac/2024/ac-2024/\n\nAdvisory Committe
 e Meetings are Members-only meetings that focus on strategic issues and fu
 ture directions envisioned by the Membership.
STATUS:CONFIRMED
CREATED:20230919T172600Z
LAST-MODIFIED:20240124T173237Z
END:VEVENT
END:VCALENDAR
