BEGIN:VCALENDAR
VERSION:2.0
PRODID:-//Sabre//Sabre VObject 4.5.8//EN
CALSCALE:GREGORIAN
NAME:AC at TPAC 2024 - Hybrid meeting
X-WR-CALNAME:AC at TPAC 2024 - Hybrid meeting
BEGIN:VTIMEZONE
TZID:UTC
X-MICROSOFT-CDO-TZID:0
BEGIN:STANDARD
DTSTART:20231001T000000
TZOFFSETFROM:+0000
TZOFFSETTO:+0000
TZNAME:UTC
END:STANDARD
END:VTIMEZONE
BEGIN:VEVENT
UID:f49ed038-ccad-479b-8c32-7c480fa9a630
DTSTAMP:20250123T223421Z
SUMMARY:AC at TPAC 2024 - Hybrid meeting
DTSTART:20240925T000000Z
DTEND:20240925T235900Z
DESCRIPTION:https://www.w3.org/events/ac/2024/ac-tpac-2024-hybrid-meeting/\
 n\nA plenary open to all TPAC2024 attendees replaced the regular W3C AC Me
 eting. The plenary will cover W3C business and consortium updates.
STATUS:CONFIRMED
CREATED:20230928T123100Z
LAST-MODIFIED:20250123T223421Z
END:VEVENT
END:VCALENDAR
