BEGIN:VCALENDAR
VERSION:2.0
PRODID:-//Sabre//Sabre VObject 4.5.8//EN
CALSCALE:GREGORIAN
NAME:W3C Intro Session
X-WR-CALNAME:W3C Intro Session
BEGIN:VTIMEZONE
TZID:UTC
X-MICROSOFT-CDO-TZID:0
BEGIN:STANDARD
DTSTART:20230327T130000
TZOFFSETFROM:+0000
TZOFFSETTO:+0000
TZNAME:UTC
END:STANDARD
END:VTIMEZONE
BEGIN:VEVENT
UID:8604ac47-c4f6-4a95-819e-884fcee5f987
DTSTAMP:20240320T085249Z
SUMMARY:W3C Intro Session
DTSTART:20240321T130000Z
DTEND:20240321T140000Z
DESCRIPTION:https://www.w3.org/events/ac/2024/w3c-intro-session/\n\nThis se
 ssion is offered prior to AC2024 to new Advisory Committee Representatives
 \, and open to Chairs\, AB\, TAG\, W3C Chapters & Evangelists.
STATUS:CONFIRMED
CREATED:20240118T092900Z
LAST-MODIFIED:20240320T085249Z
END:VEVENT
END:VCALENDAR
