BEGIN:VCALENDAR
VERSION:2.0
PRODID:-//Sabre//Sabre VObject 4.5.8//EN
CALSCALE:GREGORIAN
NAME:AC at TPAC 2025 - Online meeting
X-WR-CALNAME:AC at TPAC 2025 - Online meeting
BEGIN:VTIMEZONE
TZID:UTC
X-MICROSOFT-CDO-TZID:0
BEGIN:STANDARD
DTSTART:20241102T133000
TZOFFSETFROM:+0000
TZOFFSETTO:+0000
TZNAME:UTC
END:STANDARD
END:VTIMEZONE
BEGIN:VEVENT
UID:8ae0a5ee-ffb1-478a-935d-af78c6ec6e28
DTSTAMP:20251203T122430Z
SUMMARY:AC at TPAC 2025 - Online meeting
DTSTART:20251028T133000Z
DTEND:20251028T150000Z
DESCRIPTION:https://www.w3.org/events/ac/2025/ac-tpac-2025-hybrid-meeting-2
 /\n\nJoin us for a highlight of Member work\, for governance and corporate
  updates.
STATUS:CONFIRMED
CREATED:20250717T120000Z
LAST-MODIFIED:20251203T122430Z
END:VEVENT
END:VCALENDAR
